BEGIN:VCALENDAR
VERSION:2.0
PRODID:-//https://www.skob.com///NONSGML kigkonsult.se iCalcreator 2.10.15//
METHOD:PUBLISH
BEGIN:VEVENT
UID:20260426T024051UTC-1978ABZ7gw@https://www.skob.com/
DTSTAMP:20260426T024051Z
DESCRIPTION: https://www.skob.com/component/rseventspro/event/3453-bobby-sc
 hnek-1-5pm?Itemid=101
DTSTART;VALUE=DATE:20260804
LOCATION:Siesta Key Oyster Bar (5238 Ocean Blvd Sarasota\, FL 34242)
SUMMARY:Bobby Schnek	 1-5pm	
URL:https://www.skob.com/component/rseventspro/event/3453-bobby-schnek-1-5p
 m?Itemid=101
END:VEVENT
END:VCALENDAR
