BEGIN:VCALENDAR
VERSION:2.0
PRODID:-//https://www.skob.com///NONSGML kigkonsult.se iCalcreator 2.10.15//
METHOD:PUBLISH
BEGIN:VEVENT
UID:20260426T030151UTC-9878uVxmE7@https://www.skob.com/
DTSTAMP:20260426T030151Z
DESCRIPTION: https://www.skob.com/component/rseventspro/event/3454-audio-or
 chid-7-11-pm?Itemid=101
DTSTART;VALUE=DATE:20260804
LOCATION:Siesta Key Oyster Bar (5238 Ocean Blvd Sarasota\, FL 34242)
SUMMARY:Audio Orchid	 7-11 pm	
URL:https://www.skob.com/component/rseventspro/event/3454-audio-orchid-7-11
 -pm?Itemid=101
END:VEVENT
END:VCALENDAR
