BEGIN:VCALENDAR
VERSION:2.0
PRODID:-//https://www.skob.com///NONSGML kigkonsult.se iCalcreator 2.10.15//
METHOD:PUBLISH
BEGIN:VEVENT
UID:20260425T194019UTC-7316savXvS@https://www.skob.com/
DTSTAMP:20260425T194019Z
DESCRIPTION: https://www.skob.com/component/rseventspro/event/3466-everyday
 -people-2-6-pm?Itemid=101
DTSTART;VALUE=DATE:20260809
LOCATION:Siesta Key Oyster Bar (5238 Ocean Blvd Sarasota\, FL 34242)
SUMMARY:Everyday People	 2-6 pm	
URL:https://www.skob.com/component/rseventspro/event/3466-everyday-people-2
 -6-pm?Itemid=101
END:VEVENT
END:VCALENDAR
