BEGIN:VCALENDAR
VERSION:2.0
PRODID:-//https://www.skob.com///NONSGML kigkonsult.se iCalcreator 2.10.15//
METHOD:PUBLISH
BEGIN:VEVENT
UID:20260425T182402UTC-4571vdCRVl@https://www.skob.com/
DTSTAMP:20260425T182402Z
DESCRIPTION: https://www.skob.com/component/rseventspro/event/3468-dean-joh
 annesen-1-5-pm?Itemid=101
DTSTART;VALUE=DATE:20260810
LOCATION:Siesta Key Oyster Bar (5238 Ocean Blvd Sarasota\, FL 34242)
SUMMARY:Dean Johannesen	 1-5 pm	
URL:https://www.skob.com/component/rseventspro/event/3468-dean-johannesen-1
 -5-pm?Itemid=101
END:VEVENT
END:VCALENDAR
