BEGIN:VCALENDAR
VERSION:2.0
PRODID:-//https://www.skob.com///NONSGML kigkonsult.se iCalcreator 2.10.15//
METHOD:PUBLISH
BEGIN:VEVENT
UID:20260425T152952UTC-79652vwHUl@https://www.skob.com/
DTSTAMP:20260425T152952Z
DESCRIPTION: https://www.skob.com/component/rseventspro/event/3472-marcel-1
 -5-pm?Itemid=101
DTSTART;VALUE=DATE:20260812
LOCATION:Siesta Key Oyster Bar (5238 Ocean Blvd Sarasota\, FL 34242)
SUMMARY:Marcel	 1-5 pm	
URL:https://www.skob.com/component/rseventspro/event/3472-marcel-1-5-pm?Ite
 mid=101
END:VEVENT
END:VCALENDAR
