BEGIN:VCALENDAR
VERSION:2.0
PRODID:-//https://www.skob.com///NONSGML kigkonsult.se iCalcreator 2.10.15//
METHOD:PUBLISH
BEGIN:VEVENT
UID:20260425T140741UTC-7775ztZ81x@https://www.skob.com/
DTSTAMP:20260425T140741Z
DESCRIPTION: https://www.skob.com/component/rseventspro/event/3474-dana-law
 rence-1-5-pm?Itemid=101
DTSTART;VALUE=DATE:20260813
LOCATION:Siesta Key Oyster Bar (5238 Ocean Blvd Sarasota\, FL 34242)
SUMMARY:Dana Lawrence	 1-5 pm	
URL:https://www.skob.com/component/rseventspro/event/3474-dana-lawrence-1-5
 -pm?Itemid=101
END:VEVENT
END:VCALENDAR
