BEGIN:VCALENDAR
VERSION:2.0
PRODID:-//https://www.skob.com///NONSGML kigkonsult.se iCalcreator 2.10.15//
METHOD:PUBLISH
BEGIN:VEVENT
UID:20260425T113713UTC-3535kUD04T@https://www.skob.com/
DTSTAMP:20260425T113713Z
DESCRIPTION: https://www.skob.com/component/rseventspro/event/3479-john-bas
 tiani-11am-2pm?Itemid=101
DTSTART;VALUE=DATE:20260815
LOCATION:Siesta Key Oyster Bar (5238 Ocean Blvd Sarasota\, FL 34242)
SUMMARY:John Bastiani	 11am-2pm	
URL:https://www.skob.com/component/rseventspro/event/3479-john-bastiani-11a
 m-2pm?Itemid=101
END:VEVENT
END:VCALENDAR
