BEGIN:VCALENDAR
VERSION:2.0
PRODID:-//https://www.skob.com///NONSGML kigkonsult.se iCalcreator 2.10.15//
METHOD:PUBLISH
BEGIN:VEVENT
UID:20260425T102341UTC-1776VUG3kj@https://www.skob.com/
DTSTAMP:20260425T102341Z
DESCRIPTION: https://www.skob.com/component/rseventspro/event/3484-vince-at
 -night-7-11-pm?Itemid=101
DTSTART;VALUE=DATE:20260816
LOCATION:Siesta Key Oyster Bar (5238 Ocean Blvd Sarasota\, FL 34242)
SUMMARY:Vince at Night	 7-11 pm	
URL:https://www.skob.com/component/rseventspro/event/3484-vince-at-night-7-
 11-pm?Itemid=101
END:VEVENT
END:VCALENDAR
