BEGIN:VCALENDAR
VERSION:2.0
PRODID:-//https://www.skob.com///NONSGML kigkonsult.se iCalcreator 2.10.15//
METHOD:PUBLISH
BEGIN:VEVENT
UID:20260425T025710UTC-6252EUAIdp@https://www.skob.com/
DTSTAMP:20260425T025710Z
DESCRIPTION: https://www.skob.com/component/rseventspro/event/3494-11-3-7-p
 m?Itemid=101
DTSTART;VALUE=DATE:20260821
LOCATION:Siesta Key Oyster Bar (5238 Ocean Blvd Sarasota\, FL 34242)
SUMMARY:11	 3-7 pm	
URL:https://www.skob.com/component/rseventspro/event/3494-11-3-7-pm?Itemid=
 101
END:VEVENT
END:VCALENDAR
