BEGIN:VCALENDAR
VERSION:2.0
PRODID:-//https://www.skob.com///NONSGML kigkonsult.se iCalcreator 2.10.15//
METHOD:PUBLISH
BEGIN:VEVENT
UID:20260425T000901UTC-6914pgfRs0@https://www.skob.com/
DTSTAMP:20260425T000901Z
DESCRIPTION: https://www.skob.com/component/rseventspro/event/3499-joey-lev
 allee-10am-1pm?Itemid=101
DTSTART;VALUE=DATE:20260823
LOCATION:Siesta Key Oyster Bar (5238 Ocean Blvd Sarasota\, FL 34242)
SUMMARY:Joey Levallee	 10am-1pm 	
URL:https://www.skob.com/component/rseventspro/event/3499-joey-levallee-10a
 m-1pm?Itemid=101
END:VEVENT
END:VCALENDAR
