BEGIN:VCALENDAR
VERSION:2.0
PRODID:-//https://www.skob.com///NONSGML kigkonsult.se iCalcreator 2.10.15//
METHOD:PUBLISH
BEGIN:VEVENT
UID:20260424T153624UTC-0104UBtMH3@https://www.skob.com/
DTSTAMP:20260424T153624Z
DESCRIPTION: https://www.skob.com/component/rseventspro/event/3514-steve-ma
 zetta-3-7pm?Itemid=101
DTSTART;VALUE=DATE:20260829
LOCATION:Siesta Key Oyster Bar (5238 Ocean Blvd Sarasota\, FL 34242)
SUMMARY:Steve Mazetta	 3-7pm	
URL:https://www.skob.com/component/rseventspro/event/3514-steve-mazetta-3-7
 pm?Itemid=101
END:VEVENT
END:VCALENDAR
