BEGIN:VCALENDAR
VERSION:2.0
PRODID:-//https://www.skob.com///NONSGML kigkonsult.se iCalcreator 2.10.15//
METHOD:PUBLISH
BEGIN:VEVENT
UID:20260424T155440UTC-0565xzFdc1@https://www.skob.com/
DTSTAMP:20260424T155440Z
DESCRIPTION: https://www.skob.com/component/rseventspro/event/3515-the-hitt
 -kickers-8pm-12am?Itemid=101
DTSTART;VALUE=DATE:20260829
LOCATION:Siesta Key Oyster Bar (5238 Ocean Blvd Sarasota\, FL 34242)
SUMMARY:The Hitt Kickers	 8pm-12am	
URL:https://www.skob.com/component/rseventspro/event/3515-the-hitt-kickers-
 8pm-12am?Itemid=101
END:VEVENT
END:VCALENDAR
