BEGIN:VCALENDAR
VERSION:2.0
PRODID:-//https://www.skob.com///NONSGML kigkonsult.se iCalcreator 2.10.15//
METHOD:PUBLISH
BEGIN:VEVENT
UID:20260424T142720UTC-2826uvBjdb@https://www.skob.com/
DTSTAMP:20260424T142720Z
DESCRIPTION: https://www.skob.com/component/rseventspro/event/3517-j-santi-
 2-6pm?Itemid=101
DTSTART;VALUE=DATE:20260830
LOCATION:Siesta Key Oyster Bar (5238 Ocean Blvd Sarasota\, FL 34242)
SUMMARY:J Santi	 2-6pm	
URL:https://www.skob.com/component/rseventspro/event/3517-j-santi-2-6pm?Ite
 mid=101
END:VEVENT
END:VCALENDAR
