BEGIN:VCALENDAR
VERSION:2.0
PRODID:-//https://www.skob.com///NONSGML kigkonsult.se iCalcreator 2.10.15//
METHOD:PUBLISH
BEGIN:VEVENT
UID:20260424T142720UTC-5809zIUsaK@https://www.skob.com/
DTSTAMP:20260424T142720Z
DESCRIPTION: https://www.skob.com/component/rseventspro/event/3518-vince-at
 -night-7-11-pm?Itemid=101
DTSTART;VALUE=DATE:20260830
LOCATION:Siesta Key Oyster Bar (5238 Ocean Blvd Sarasota\, FL 34242)
SUMMARY:Vince at Night	 7-11 pm	
URL:https://www.skob.com/component/rseventspro/event/3518-vince-at-night-7-
 11-pm?Itemid=101
END:VEVENT
END:VCALENDAR
